BEGIN:VCALENDAR
VERSION:2.0
PRODID:-//Labs and More - ECPv6.15.20//NONSGML v1.0//EN
CALSCALE:GREGORIAN
METHOD:PUBLISH
X-WR-CALNAME:Labs and More
X-ORIGINAL-URL:https://labsandmore.org
X-WR-CALDESC:Events for Labs and More
REFRESH-INTERVAL;VALUE=DURATION:PT1H
X-Robots-Tag:noindex
X-PUBLISHED-TTL:PT1H
BEGIN:VTIMEZONE
TZID:America/Los_Angeles
BEGIN:DAYLIGHT
TZOFFSETFROM:-0800
TZOFFSETTO:-0700
TZNAME:PDT
DTSTART:20250309T100000
END:DAYLIGHT
BEGIN:STANDARD
TZOFFSETFROM:-0700
TZOFFSETTO:-0800
TZNAME:PST
DTSTART:20251102T090000
END:STANDARD
BEGIN:DAYLIGHT
TZOFFSETFROM:-0800
TZOFFSETTO:-0700
TZNAME:PDT
DTSTART:20260308T100000
END:DAYLIGHT
BEGIN:STANDARD
TZOFFSETFROM:-0700
TZOFFSETTO:-0800
TZNAME:PST
DTSTART:20261101T090000
END:STANDARD
BEGIN:DAYLIGHT
TZOFFSETFROM:-0800
TZOFFSETTO:-0700
TZNAME:PDT
DTSTART:20270314T100000
END:DAYLIGHT
BEGIN:STANDARD
TZOFFSETFROM:-0700
TZOFFSETTO:-0800
TZNAME:PST
DTSTART:20271107T090000
END:STANDARD
END:VTIMEZONE
BEGIN:VEVENT
DTSTART;TZID=America/Los_Angeles:20260222T090000
DTEND;TZID=America/Los_Angeles:20260222T110000
DTSTAMP:20260424T043405
CREATED:20260218T013602Z
LAST-MODIFIED:20260218T014723Z
UID:152765-1771750800-1771758000@labsandmore.org
SUMMARY:1st Alumni Pack Walk!
DESCRIPTION:Labs & More’s FIRST Alumni Pack Walk is ready for you to join!\nWe’re so excited to kick off our Alumni Pack Walk series and hope to make these a regular thing\, so let’s start strong! \nOur alumni pups will be walking alongside our adoptable dogs from the Rescue Ranch\, helping them get some great exercise and positive socialization. It’s a win-win for everyone! \nSign up!\nWhat to bring: \n\nWater for you and your pup\nComfortable walking shoes\nSunscreen and/or a hat (optional\, but recommended!)\n\nImportant information:  \n\nThis walk is an easy 4.2 miles\nAll dog handlers must be 18 years or older.\nYour alumni must be on a leash appropriate for this walk\nYour alumni must be comfortable around other dogs\n\nWe can’t wait to see you and your pups there!\nSign up!
URL:https://labsandmore.org/event/1st-alumni-pack-walk/
LOCATION:Rose Canyon Trailhead\, Regents Rd\, San Diego\, CA\, 92122\, United States
ATTACH;FMTTYPE=image/jpeg:https://labsandmore.org/wp-content/uploads/2026/02/636781774_1447125176769117_6184830012184999498_n.jpg
ORGANIZER;CN="Labs and More":MAILTO:doginfo@labsandmore.org
END:VEVENT
END:VCALENDAR