BEGIN:VCALENDAR
VERSION:2.0
PRODID:-//Labs and More - ECPv6.15.20//NONSGML v1.0//EN
CALSCALE:GREGORIAN
METHOD:PUBLISH
X-ORIGINAL-URL:https://labsandmore.org
X-WR-CALDESC:Events for Labs and More
REFRESH-INTERVAL;VALUE=DURATION:PT1H
X-Robots-Tag:noindex
X-PUBLISHED-TTL:PT1H
BEGIN:VTIMEZONE
TZID:America/Los_Angeles
BEGIN:DAYLIGHT
TZOFFSETFROM:-0800
TZOFFSETTO:-0700
TZNAME:PDT
DTSTART:20250309T100000
END:DAYLIGHT
BEGIN:STANDARD
TZOFFSETFROM:-0700
TZOFFSETTO:-0800
TZNAME:PST
DTSTART:20251102T090000
END:STANDARD
BEGIN:DAYLIGHT
TZOFFSETFROM:-0800
TZOFFSETTO:-0700
TZNAME:PDT
DTSTART:20260308T100000
END:DAYLIGHT
BEGIN:STANDARD
TZOFFSETFROM:-0700
TZOFFSETTO:-0800
TZNAME:PST
DTSTART:20261101T090000
END:STANDARD
BEGIN:DAYLIGHT
TZOFFSETFROM:-0800
TZOFFSETTO:-0700
TZNAME:PDT
DTSTART:20270314T100000
END:DAYLIGHT
BEGIN:STANDARD
TZOFFSETFROM:-0700
TZOFFSETTO:-0800
TZNAME:PST
DTSTART:20271107T090000
END:STANDARD
END:VTIMEZONE
BEGIN:VEVENT
DTSTART;TZID=America/Los_Angeles:20260516T110000
DTEND;TZID=America/Los_Angeles:20260516T140000
DTSTAMP:20260425T092157
CREATED:20260425T032058Z
LAST-MODIFIED:20260425T032058Z
UID:221628-1778929200-1778940000@labsandmore.org
SUMMARY:The Waggin' Spring Social
DESCRIPTION:Join us at Midland Pet Clinic for a fun adoption event!\nDog training demos! \nPup cups! \nPet Photographers! \nFace Painting! \nTreats for dogs and humans! \nand MORE \n 
URL:https://labsandmore.org/event/the-waggin-spring-social/
LOCATION:Midand Animal Clinic\, Midland Animal Clinic 14155 Midland Rd\, Poway\, CA\, 92064\, United States
ATTACH;FMTTYPE=application/pdf:https://labsandmore.org/wp-content/uploads/2026/04/MAC-Spring-Social-Event-Flyer-Final-.pdf
END:VEVENT
END:VCALENDAR