BEGIN:VCALENDAR
VERSION:2.0
PRODID:-//Labs and More - ECPv6.15.20//NONSGML v1.0//EN
CALSCALE:GREGORIAN
METHOD:PUBLISH
X-WR-CALNAME:Labs and More
X-ORIGINAL-URL:https://labsandmore.org
X-WR-CALDESC:Events for Labs and More
REFRESH-INTERVAL;VALUE=DURATION:PT1H
X-Robots-Tag:noindex
X-PUBLISHED-TTL:PT1H
BEGIN:VTIMEZONE
TZID:America/Los_Angeles
BEGIN:DAYLIGHT
TZOFFSETFROM:-0800
TZOFFSETTO:-0700
TZNAME:PDT
DTSTART:20240310T100000
END:DAYLIGHT
BEGIN:STANDARD
TZOFFSETFROM:-0700
TZOFFSETTO:-0800
TZNAME:PST
DTSTART:20241103T090000
END:STANDARD
BEGIN:DAYLIGHT
TZOFFSETFROM:-0800
TZOFFSETTO:-0700
TZNAME:PDT
DTSTART:20250309T100000
END:DAYLIGHT
BEGIN:STANDARD
TZOFFSETFROM:-0700
TZOFFSETTO:-0800
TZNAME:PST
DTSTART:20251102T090000
END:STANDARD
BEGIN:DAYLIGHT
TZOFFSETFROM:-0800
TZOFFSETTO:-0700
TZNAME:PDT
DTSTART:20260308T100000
END:DAYLIGHT
BEGIN:STANDARD
TZOFFSETFROM:-0700
TZOFFSETTO:-0800
TZNAME:PST
DTSTART:20261101T090000
END:STANDARD
END:VTIMEZONE
BEGIN:VEVENT
DTSTART;TZID=America/Los_Angeles:20250405T110000
DTEND;TZID=America/Los_Angeles:20250405T130000
DTSTAMP:20260424T075228
CREATED:20250326T022233Z
LAST-MODIFIED:20250401T040619Z
UID:1857-1743850800-1743858000@labsandmore.org
SUMMARY:Soccer Shots Egg Hunt and Adoption Event
DESCRIPTION:This week’s adoption event is being held with Soccer Shots at their Spring Egg Hunt!\n\nPuppies\, Dogs & fun for the whole family! Looking to adopt while having fun activities for the littles one\, what better way to kick off the spring season!\n\nIf you would like your kids to join in for the egg hunt you can register them now at; Soccer Shots Egg Hunt – Cheddar Up.
URL:https://labsandmore.org/event/april-pop-up/
LOCATION:Harry Griffen Regional Park\, 9550 Milden St\, La Mesa\, CA\, 91942\, United States
ATTACH;FMTTYPE=image/webp:https://labsandmore.org/wp-content/uploads/2025/03/soccer-shots.webp
ORGANIZER;CN="Soccer Shots":MAILTO:sdcc@soccershots.com
END:VEVENT
BEGIN:VEVENT
DTSTART;TZID=America/Los_Angeles:20250412T100000
DTEND;TZID=America/Los_Angeles:20250412T120000
DTSTAMP:20260424T075228
CREATED:20250323T010850Z
LAST-MODIFIED:20250323T010850Z
UID:1765-1744452000-1744459200@labsandmore.org
SUMMARY:Rescue a Life Adoption Event
DESCRIPTION:Discover Your Perfect Match\nAt the Rescue A Life Adoption Event! \nAre you ready to transform your life with unconditional love and endless joy? Join us at Road Runner Sports for our Rescue A Life Adoption Event\, where your new furry best friend is waiting for you! \n Meet dozens of Adorable Dogs and Puppies! From playful puppies bursting with energy to gentle senior dogs who just want a warm lap to snuggle on\, we have a variety of breeds and personalities that are sure to capture your heart. \n Why Adopt? Adopting means more than just finding a loyal companion\, you are also giving a deserving dog a forever home. Each adoption helps us save more lives\, making room for other dogs in need. Together\, we can create brighter futures\, one adoption at a time! \nMark your calendars\, spread the word\, and get ready to meet your new best friend! Together\, let’s Rescue A Life!
URL:https://labsandmore.org/event/rescue-a-life-adoption-event-10/
LOCATION:Road Runner Sports\, 5553 Copley Drive\, San Diego\, 92111\, United States
CATEGORIES:Adoption Event
ATTACH;FMTTYPE=image/jpeg:https://labsandmore.org/wp-content/uploads/2025/01/Events.jpg
ORGANIZER;CN="Labs and More":MAILTO:doginfo@labsandmore.org
END:VEVENT
BEGIN:VEVENT
DTSTART;TZID=America/Los_Angeles:20250418T193000
DTEND;TZID=America/Los_Angeles:20250418T220000
DTSTAMP:20260424T075228
CREATED:20250401T033803Z
LAST-MODIFIED:20250401T033803Z
UID:2014-1745004600-1745013600@labsandmore.org
SUMMARY:San Diego Seals Fundraiser
DESCRIPTION:Cheer on the San Diego Seals and support rescue pups! \n\n\n\nMark your calendars! On Friday\, April 18th at 7:30 PM\, it’s Fan Appreciation Day\, and 40% of ticket sales when you buy from our link will be donated to our Bark in the Barn Fundraiser! Plus after the game you will have a chance to meet the Seals players at an exclusive post-game autograph session!\n\nCheer on the Seals\, support a great cause and make memories! \n\n\n\nGrab your tickets & we’ll see you at the game!\nTicket Link: https://www.gofevo.com/event/Barkbarn2?r=99
URL:https://labsandmore.org/event/san-diego-seals-fundraiser/
LOCATION:Pechanga Arena\, 3500 Sports Arena Blvd\, San Diego\, CA\, 92110\, United States
ATTACH;FMTTYPE=image/jpeg:https://labsandmore.org/wp-content/uploads/2025/03/San-Diego-Seals-BITB-event.jpg
ORGANIZER;CN="San Diego Seals":MAILTO:tickets@sealslax.com
END:VEVENT
BEGIN:VEVENT
DTSTART;TZID=America/Los_Angeles:20250419T100000
DTEND;TZID=America/Los_Angeles:20250419T120000
DTSTAMP:20260424T075228
CREATED:20250323T010925Z
LAST-MODIFIED:20250323T010925Z
UID:1766-1745056800-1745064000@labsandmore.org
SUMMARY:Rescue a Life Adoption Event
DESCRIPTION:Discover Your Perfect Match\nAt the Rescue A Life Adoption Event! \nAre you ready to transform your life with unconditional love and endless joy? Join us at Road Runner Sports for our Rescue A Life Adoption Event\, where your new furry best friend is waiting for you! \n Meet dozens of Adorable Dogs and Puppies! From playful puppies bursting with energy to gentle senior dogs who just want a warm lap to snuggle on\, we have a variety of breeds and personalities that are sure to capture your heart. \n Why Adopt? Adopting means more than just finding a loyal companion\, you are also giving a deserving dog a forever home. Each adoption helps us save more lives\, making room for other dogs in need. Together\, we can create brighter futures\, one adoption at a time! \nMark your calendars\, spread the word\, and get ready to meet your new best friend! Together\, let’s Rescue A Life!
URL:https://labsandmore.org/event/rescue-a-life-adoption-event-11/
LOCATION:Road Runner Sports\, 5553 Copley Drive\, San Diego\, 92111\, United States
CATEGORIES:Adoption Event
ATTACH;FMTTYPE=image/jpeg:https://labsandmore.org/wp-content/uploads/2025/01/Events.jpg
ORGANIZER;CN="Labs and More":MAILTO:doginfo@labsandmore.org
END:VEVENT
BEGIN:VEVENT
DTSTART;TZID=America/Los_Angeles:20250426T100000
DTEND;TZID=America/Los_Angeles:20250426T120000
DTSTAMP:20260424T075228
CREATED:20250323T011036Z
LAST-MODIFIED:20250323T011036Z
UID:1767-1745661600-1745668800@labsandmore.org
SUMMARY:Rescue a Life Adoption Event
DESCRIPTION:Discover Your Perfect Match\nAt the Rescue A Life Adoption Event! \nAre you ready to transform your life with unconditional love and endless joy? Join us at Road Runner Sports for our Rescue A Life Adoption Event\, where your new furry best friend is waiting for you! \n Meet dozens of Adorable Dogs and Puppies! From playful puppies bursting with energy to gentle senior dogs who just want a warm lap to snuggle on\, we have a variety of breeds and personalities that are sure to capture your heart. \n Why Adopt? Adopting means more than just finding a loyal companion\, you are also giving a deserving dog a forever home. Each adoption helps us save more lives\, making room for other dogs in need. Together\, we can create brighter futures\, one adoption at a time! \nMark your calendars\, spread the word\, and get ready to meet your new best friend! Together\, let’s Rescue A Life!
URL:https://labsandmore.org/event/rescue-a-life-adoption-event-12/
LOCATION:Road Runner Sports\, 5553 Copley Drive\, San Diego\, 92111\, United States
CATEGORIES:Adoption Event
ATTACH;FMTTYPE=image/jpeg:https://labsandmore.org/wp-content/uploads/2025/01/Events.jpg
ORGANIZER;CN="Labs and More":MAILTO:doginfo@labsandmore.org
END:VEVENT
END:VCALENDAR