BEGIN:VCALENDAR
VERSION:2.0
PRODID:-//Labs and More - ECPv6.15.20//NONSGML v1.0//EN
CALSCALE:GREGORIAN
METHOD:PUBLISH
X-ORIGINAL-URL:https://labsandmore.org
X-WR-CALDESC:Events for Labs and More
REFRESH-INTERVAL;VALUE=DURATION:PT1H
X-Robots-Tag:noindex
X-PUBLISHED-TTL:PT1H
BEGIN:VTIMEZONE
TZID:America/Los_Angeles
BEGIN:DAYLIGHT
TZOFFSETFROM:-0800
TZOFFSETTO:-0700
TZNAME:PDT
DTSTART:20240310T100000
END:DAYLIGHT
BEGIN:STANDARD
TZOFFSETFROM:-0700
TZOFFSETTO:-0800
TZNAME:PST
DTSTART:20241103T090000
END:STANDARD
BEGIN:DAYLIGHT
TZOFFSETFROM:-0800
TZOFFSETTO:-0700
TZNAME:PDT
DTSTART:20250309T100000
END:DAYLIGHT
BEGIN:STANDARD
TZOFFSETFROM:-0700
TZOFFSETTO:-0800
TZNAME:PST
DTSTART:20251102T090000
END:STANDARD
BEGIN:DAYLIGHT
TZOFFSETFROM:-0800
TZOFFSETTO:-0700
TZNAME:PDT
DTSTART:20260308T100000
END:DAYLIGHT
BEGIN:STANDARD
TZOFFSETFROM:-0700
TZOFFSETTO:-0800
TZNAME:PST
DTSTART:20261101T090000
END:STANDARD
END:VTIMEZONE
BEGIN:VEVENT
DTSTART;VALUE=DATE:20251116
DTEND;VALUE=DATE:20251117
DTSTAMP:20260421T122219
CREATED:20250821T182550Z
LAST-MODIFIED:20251116T060655Z
UID:6446-1763251200-1763337599@labsandmore.org
SUMMARY:CANCELLED!!  You can still meet you new pup
DESCRIPTION:Rain or Shine — You Can Still Meet Your New Dog! \nRain is a wonderful thing in Southern California — just not ideal for outdoor adoption events! To keep our pups comfortable and dry\, we’re moving this weekend’s meetups to more personal settings. \nYou can still meet your future furry family member — just a little differently!\nWe’d love to set up a private home visit or a meet-and-greet at our Rescue Ranch. Simply email meets@labsandmore.org\, and we’ll help arrange a time that works best for you. \nBe sure to check back later this week for updates on our next adoption event.\nWe can’t wait to help you find the dog who’s ready to join your family!
URL:https://labsandmore.org/event/rescue-a-life-adoption-event-34/
CATEGORIES:Adoption Event
ATTACH;FMTTYPE=image/jpeg:https://labsandmore.org/wp-content/uploads/2025/08/Adoption-Event.jpg
ORGANIZER;CN="Labs and More":MAILTO:doginfo@labsandmore.org
END:VEVENT
END:VCALENDAR